BEGIN:VCALENDAR
VERSION:2.0
PRODID:-//ChamberMaster//Event Calendar 2.0//EN
METHOD:PUBLISH
X-PUBLISHED-TTL:P1H
REFRESH-INTERVAL:P1H
CALSCALE:GREGORIAN
BEGIN:VTIMEZONE
TZID:America/Chicago
BEGIN:DAYLIGHT
RRULE:FREQ=YEARLY;BYMONTH=3;BYDAY=2SU
DTSTART:20070101T000000
TZOFFSETFROM:-0600
TZOFFSETTO:-0500
TZNAME:Central Daylight Time
END:DAYLIGHT
BEGIN:STANDARD
RRULE:FREQ=YEARLY;BYMONTH=11;BYDAY=1SU
DTSTART:20070101T000000
TZOFFSETFROM:-0500
TZOFFSETTO:-0600
TZNAME:Central Standard Time
END:STANDARD
END:VTIMEZONE
BEGIN:VEVENT
DTSTART;TZID=America/Chicago:20260514T170000
DTEND;TZID=America/Chicago:20260514T190000
X-MICROSOFT-CDO-ALLDAYEVENT:FALSE
SUMMARY:Morgan Kielly
DESCRIPTION:This fundraiser is a ticketed event showcasing the history of Downtown Waterloo.\nDiscover the story of Downtown Waterloo like never before with 2026 Tour de Loo! This annual fundraiser invites you to explore the growth\, revitalization\, and exciting future of our city's core. You'll get exclusive access to new developments\, stunning renovations\, and transformed spaces\, while uncovering the stories behind them.Tickets are just $10\, or get our 30th anniversary group special of just 4 for $30. Don't miss this chance to connect with the past\, experience the present\, and get inspired by what's next! \nThe event begins at 4:30 on Thursday\, May 14th at the Main Street Waterloo office! Tickets can be purchased at the door or in advance by visiting mainstreetwaterloo.org/tourdeloo
X-ALT-DESC;FMTTYPE=text/html:<!DOCTYPE html><html><head><title></title></head><body aria-disabled="false" data-gr-ext-installed="" data-new-gr-c-s-check-loaded="14.1284.0" data-new-gr-c-s-loaded="14.1284.0" spellcheck="false"><p>This fundraiser is a ticketed event showcasing the history of Downtown Waterloo.</p><p><br></p><p>Discover the story of Downtown Waterloo like never before with 2026 Tour de Loo! This annual fundraiser invites you to explore the growth\, revitalization\, and exciting future of our city&rsquo\;s core. You&rsquo\;ll get exclusive access to new developments\, stunning renovations\, and transformed spaces\, while uncovering the stories behind them.</p><p>Tickets are just $10\, or get our 30th anniversary group special of just 4 for $30. Don&rsquo\;t miss this chance to connect with the past\, experience the present\, and get inspired by what&rsquo\;s next!&nbsp\;</p><p><br></p><p>The event begins at 4:30 on Thursday\, May 14th at the Main Street Waterloo office! Tickets can be purchased at the door or in advance by visiting mainstreetwaterloo.org/tourdeloo</p><p><br></p></body></html>
LOCATION:512 Mulberry St Waterloo IA 50703
UID:e.4416.1394223
SEQUENCE:3
DTSTAMP:20260424T005228Z
URL:https://members.growcedarvalley.com/community-calendar/Details/morgan-kielly-1647335?sourceTypeId=Hub
END:VEVENT
END:VCALENDAR
