BEGIN:VCALENDAR
VERSION:2.0
PRODID:-//ChamberMaster//Event Calendar 2.0//EN
METHOD:PUBLISH
X-PUBLISHED-TTL:P1H
REFRESH-INTERVAL:P1H
CALSCALE:GREGORIAN
BEGIN:VTIMEZONE
TZID:America/Chicago
BEGIN:DAYLIGHT
RRULE:FREQ=YEARLY;BYMONTH=3;BYDAY=2SU
DTSTART:20070101T000000
TZOFFSETFROM:-0600
TZOFFSETTO:-0500
TZNAME:Central Daylight Time
END:DAYLIGHT
BEGIN:STANDARD
RRULE:FREQ=YEARLY;BYMONTH=11;BYDAY=1SU
DTSTART:20070101T000000
TZOFFSETFROM:-0500
TZOFFSETTO:-0600
TZNAME:Central Standard Time
END:STANDARD
END:VTIMEZONE
BEGIN:VEVENT
DTSTART;TZID=America/Chicago:20260616T113000
DTEND;TZID=America/Chicago:20260616T170000
X-MICROSOFT-CDO-ALLDAYEVENT:FALSE
SUMMARY:Cedar Valley Intern Connect: Discover & Connect
DESCRIPTION:Cedar Valley Intern Connect: Discover & Connect + Building Your Life in the Cedar Valley\, A Two-Day Intern Experience | June & JulyMake the most of your summer\, and your future\, in the Cedar Valley.Cedar Valley Intern Connect is a two-part experience designed exclusively for interns\, bringing together connection\, career exploration\, and real-life insight into what it's like to live and work in the Cedar Valley. This registration signs you up for both events\, giving you a full experience across June and July.Day 1: Discover & Connect (June)\nMeet fellow interns from across the Cedar Valley while building your professional network and learning from local leaders and professionals. Through interactive experiences and a professional development workshop\, you'll gain insight into career pathways and start exploring what the Cedar Valley has to offer.Day 2: Building Your Life in the Cedar Valley (July)\nReconnect with fellow interns and explore the community through curated "Living Here" experiences. Hear honest perspectives from young professionals\, reflect on your summer\, and continue building connections as you imagine what your future in the Cedar Valley could look like.Whether you're here for the summer or thinking about staying after graduation\, Cedar Valley Intern Connect helps you connect with people\, discover the community\, and start building your future here.
X-ALT-DESC;FMTTYPE=text/html:<!DOCTYPE html><html><head><title></title></head><body aria-disabled="false"><p><strong fr-original-style="" style="font-weight: 700\;"><span style="font-family: Georgia\, serif\; font-size: 18px\;">Cedar Valley Intern Connect: Discover &amp\; Connect + Building Your Life in the Cedar Valley\,&nbsp\;</span></strong><span style="font-size: 18px\;"><span style="font-family: Georgia\,serif\;"><strong fr-original-style="" style="font-weight: 700\;">A Two-Day Intern Experience | June &amp\; July</strong></span></span></p><p><span style="font-size: 18px\;"><span style="font-family: Georgia\,serif\;"><strong fr-original-style="" style="font-weight: 700\;">Make the most of your summer\, and your future\, in the Cedar Valley.</strong></span></span></p><p><span style="font-size: 18px\;"><span style="font-family: Georgia\,serif\;">Cedar Valley Intern Connect is a two-part experience designed exclusively for interns\, bringing together connection\, career exploration\, and real-life insight into what it&rsquo\;s like to live and work in the Cedar Valley. This registration signs you up for both events\, giving you a full experience across June and July.</span></span></p><p><span style="font-size: 18px\;"><span style="font-family: Georgia\,serif\;"><strong fr-original-style="" style="font-weight: 700\;">Day 1: Discover &amp\; Connect (June)</strong><br>Meet fellow interns from across the Cedar Valley while building your professional network and learning from local leaders and professionals. Through interactive experiences and a professional development workshop\, you&rsquo\;ll gain insight into career pathways and start exploring what the Cedar Valley has to offer.</span></span></p><p><span style="font-size: 18px\;"><span style="font-family: Georgia\,serif\;"><strong fr-original-style="" style="font-weight: 700\;">Day 2: Building Your Life in the Cedar Valley (July)</strong><br>Reconnect with fellow interns and explore the community through curated &ldquo\;Living Here&rdquo\; experiences. Hear honest perspectives from young professionals\, reflect on your summer\, and continue building connections as you imagine what your future in the Cedar Valley could look like.</span></span></p><p><span style="font-family: Georgia\, serif\; font-size: 18px\;">Whether you&#39\;re here for the summer or thinking about staying after graduation\, Cedar Valley Intern Connect helps you connect with people\, discover the community\, and start building your future here.</span></p><p><br></p></body></html>
LOCATION:225 Commercial St. Waterloo IA 50701
UID:e.4416.1438076
SEQUENCE:3
DTSTAMP:20260420T214119Z
URL:https://members.growcedarvalley.com/community-calendar/Details/cedar-valley-intern-connect-discover-connect-1702088?sourceTypeId=Hub
END:VEVENT
END:VCALENDAR
